BEGIN:VCALENDAR
VERSION:2.0
PRODID:icalendar-ruby
CALSCALE:GREGORIAN
METHOD:PUBLISH
BEGIN:VEVENT
DTSTAMP:20260421T121520Z
UID:132-781980@ccrichardson.org
DTSTART:20260607T163000Z
DTEND:20260607T180000Z
CLASS:PUBLIC
CREATED:20260414T212620
DESCRIPTION:
LAST-MODIFIED:20260414T212620
LOCATION:Lecture Hall
SUMMARY:Level Up In Faith
URL;VALUE=URI:https://www.ccrichardson.org/events/level-up-in-faith/2026-06
 -07
ATTACH;FILENAME=Level-Up-In-Faith-Presentation.png;FMTTYPE=image/png:https:
 //dq5pwpg1q8ru0.cloudfront.net/2026/04/15/02/26/20/aed25744-3e7e-4333-9e9a
 -0edbea6fb783/Level-Up-In-Faith-Presentation.png
ATTACH;FILENAME=Level Up In Faith (Flyer).pdf;FMTTYPE=application/pdf:https
 ://dq5pwpg1q8ru0.cloudfront.net/2026/04/15/02/26/20/0e87432d-d063-4dfa-bb0
 3-0a83993dacb2/Level%20Up%20In%20Faith%20(Flyer).pdf
END:VEVENT
END:VCALENDAR
