BEGIN:VCALENDAR
VERSION:2.0
PRODID:icalendar-ruby
CALSCALE:GREGORIAN
METHOD:PUBLISH
BEGIN:VEVENT
DTSTAMP:20260422T104807Z
UID:102-816744@ccrichardson.org
DTSTART:20260930T120000Z
DTEND:20260930T133000Z
CLASS:PUBLIC
CREATED:20260421T195946
DESCRIPTION:Meeting ID: 890 5604 6850\nPasscode: Purpose
LAST-MODIFIED:20260421T195946
LOCATION:
SUMMARY:Men's Bible Brief - Live
URL;VALUE=URI:https://www.ccrichardson.org/events/mens-bible-brief-live/202
 6-09-30
ATTACH;FILENAME=Men%27s-Bible-Brief.jpg;FMTTYPE=image/jpeg:https://dq5pwpg1
 q8ru0.cloudfront.net/2026/01/14/00/55/13/b1572e50-fee9-45bd-8603-40d51f2f9
 0d0/Men%2527s-Bible-Brief.jpg
END:VEVENT
END:VCALENDAR
