BEGIN:VCALENDAR
VERSION:2.0
PRODID:icalendar-ruby
CALSCALE:GREGORIAN
METHOD:PUBLISH
BEGIN:VEVENT
DTSTAMP:20260419T184033Z
UID:13-803844@ccrichardson.org
DTSTART:20260725T120000Z
DTEND:20260725T123000Z
CLASS:PUBLIC
CREATED:20260419T112137
DESCRIPTION:Meeting ID: 224 745 1953 | Passcode: PURPOSE
LAST-MODIFIED:20260419T112137
LOCATION:
SUMMARY:Men's Bible Brief Saturday Rewind
URL;VALUE=URI:https://www.ccrichardson.org/events/mens-bible-brief-saturday
 -rewind/2026-07-25
ATTACH;FILENAME=Saturday-Rewind.jpg;FMTTYPE=image/jpeg:https://dq5pwpg1q8ru
 0.cloudfront.net/2024/01/23/17/36/59/b3cf7d3b-c342-4642-9125-baf51eecd422/
 Saturday-Rewind.jpg
END:VEVENT
END:VCALENDAR
