BEGIN:VCALENDAR
VERSION:2.0
PRODID:icalendar-ruby
CALSCALE:GREGORIAN
METHOD:PUBLISH
BEGIN:VEVENT
DTSTAMP:20260420T203013Z
UID:11-809954@ccrichardson.org
DTSTART:20261028T120000Z
DTEND:20261028T123000Z
CLASS:PUBLIC
CREATED:20260420T143415
DESCRIPTION:Men's Bible Brief
LAST-MODIFIED:20260420T143415
LOCATION:
SUMMARY:Men's Bible Brief
URL;VALUE=URI:https://www.ccrichardson.org/events/mens-bible-brief/2026-10-
 28
ATTACH;FILENAME=Bible-Brief.jpg;FMTTYPE=image/jpeg:https://dq5pwpg1q8ru0.cl
 oudfront.net/2024/01/23/17/08/48/43d6a7ab-b146-4e16-8513-701f2c5710b3/Bibl
 e-Brief.jpg
END:VEVENT
END:VCALENDAR
