BEGIN:VCALENDAR
VERSION:2.0
PRODID:icalendar-ruby
CALSCALE:GREGORIAN
METHOD:PUBLISH
BEGIN:VEVENT
DTSTAMP:20260424T043653Z
UID:7-825838@ccrichardson.org
DTSTART:20260927T150000Z
DTEND:20260927T161500Z
CLASS:PUBLIC
CREATED:20260423T213735
DESCRIPTION:Join us in-person or online by clicking here!
LAST-MODIFIED:20260423T213735
LOCATION:701 Centennial Blvd.\, Richardson\, TX 75081
SUMMARY:Sunday Morning Worship Experience
URL;VALUE=URI:https://www.ccrichardson.org/events/sunday-morning-worship-ex
 perience/2026-09-27
ATTACH;FILENAME=Handling-Business_YT.jpg;FMTTYPE=image/jpeg:https://dq5pwpg
 1q8ru0.cloudfront.net/2026/01/04/17/17/50/153e2441-81db-43fe-88ed-b92f4eda
 f89d/Handling-Business_YT.jpg
END:VEVENT
END:VCALENDAR
