BEGIN:VCALENDAR
VERSION:2.0
PRODID:icalendar-ruby
CALSCALE:GREGORIAN
METHOD:PUBLISH
BEGIN:VEVENT
DTSTAMP:20260424T121737Z
UID:7-826641@ccrichardson.org
DTSTART:20261101T160000Z
DTEND:20261101T171500Z
CLASS:PUBLIC
CREATED:20260424T070602
DESCRIPTION:Join us in-person or online by clicking here!
LAST-MODIFIED:20260424T070602
LOCATION:701 Centennial Blvd.\, Richardson\, TX 75081
SUMMARY:Sunday Morning Worship Experience
URL;VALUE=URI:https://www.ccrichardson.org/events/sunday-morning-worship-ex
 perience/2026-11-01
ATTACH;FILENAME=Handling-Business_YT.jpg;FMTTYPE=image/jpeg:https://dq5pwpg
 1q8ru0.cloudfront.net/2026/01/04/17/17/50/153e2441-81db-43fe-88ed-b92f4eda
 f89d/Handling-Business_YT.jpg
END:VEVENT
END:VCALENDAR
