BEGIN:VCALENDAR
VERSION:2.0
PRODID:icalendar-ruby
CALSCALE:GREGORIAN
METHOD:PUBLISH
BEGIN:VEVENT
DTSTAMP:20260424T122002Z
UID:134-825684@ccrichardson.org
DTSTART:20260710T000000Z
DTEND:20260710T010000Z
CLASS:PUBLIC
CREATED:20260423T202823
DESCRIPTION:Join us every SECOND &amp\; FOURTH THURSDAY at 7:00 PM on Zoom!
  We read through the Bible together\, chapter by chapter\, and share what 
 we see! You're not obligated to speak\, but rather\, to listen and learn w
 ith everyone else online!
LAST-MODIFIED:20260423T202823
LOCATION:On Zoom
SUMMARY:Talk Thru the Bible on Zoom
URL;VALUE=URI:https://www.ccrichardson.org/events/talk-thru-the-bible-on-zo
 om--134/2026-07-09
ATTACH;FILENAME=Talk-thru-the-bible-update-%28presentation%29.png;FMTTYPE=i
 mage/png:https://dq5pwpg1q8ru0.cloudfront.net/2026/04/24/01/17/15/940a5154
 -fcd8-4846-a134-aa16bf60bc7b/Talk-thru-the-bible-update-%2528presentation%
 2529.png
END:VEVENT
END:VCALENDAR
