BEGIN:VCALENDAR
VERSION:2.0
PRODID:icalendar-ruby
CALSCALE:GREGORIAN
METHOD:PUBLISH
BEGIN:VEVENT
DTSTAMP:20260422T100249Z
UID:101-816702@ccrichardson.org
DTSTART:20260930T170000Z
DTEND:20260930T183000Z
CLASS:PUBLIC
CREATED:20260421T195946
DESCRIPTION:Meeting ID: 867 9943 4745 | Passcode: DaWord
LAST-MODIFIED:20260421T195946
LOCATION:
SUMMARY:Wednesdays in the Word on Zoom
URL;VALUE=URI:https://www.ccrichardson.org/events/wednesdays-in-the-word-on
 -zoom/2026-09-30
ATTACH;FILENAME=1-Corinthians-%28Presentation%29.png;FMTTYPE=image/png:http
 s://dq5pwpg1q8ru0.cloudfront.net/2026/01/14/00/47/36/c74def78-a08c-43e9-aa
 cb-dc6be28e2aed/1-Corinthians-%2528Presentation%2529.png
END:VEVENT
END:VCALENDAR
