BEGIN:VCALENDAR
VERSION:2.0
PRODID:icalendar-ruby
CALSCALE:GREGORIAN
METHOD:PUBLISH
BEGIN:VEVENT
DTSTAMP:20260422T120326Z
UID:46-816661@ccrichardson.org
DTSTART:20261011T163000Z
DTEND:20261011T180000Z
CLASS:PUBLIC
CREATED:20260421T195945
DESCRIPTION:Coffee Break is for any woman – any age\, any status and any 
 season of life - who desires to build connection with other women at Chris
 t Community. \nOur mission is to create an easy\, relaxed opportunity fo
 r the women of Christ Community to connect and build relationships on a we
 ekly basis. Coffee Break is easy and relaxed in that (1) we meet right aft
 er church\, (2) anyone can come and go as they please\, (3) there is no se
 t agenda other than we typically discuss the sermon\, but we also discuss 
 other pressing issues\, whether personal or broader in scope\, and (4) you
  don’t have to “do” anything other than show up.\nCoffee Break meets
  after service every Sunday via Zoom. (Even ladies who attend church in pe
 rson join the zoom call from their cars!) On the 2nd and 4th Sunday\, Coff
 ee Break also meets in person after the church service. Periodically\, we 
 do brunch instead of the typical online or in person gathering. Coffee Bre
 ak meetings usually last from 1.5 to 2 hours\, but that time is flexible f
 or every participant.\nContact Sharon Simmons at ssimmons@ccrichardson.org
  for the Zoom link.
LAST-MODIFIED:20260421T195945
LOCATION:On Zoom every Sunday & Class 148 - 2nd & 4th Sundays
SUMMARY:Women's Coffee Break
URL;VALUE=URI:https://www.ccrichardson.org/events/womens-coffee-break/2026-
 10-11
ATTACH;FILENAME=Coffee-Break-%28Presentation%29.png;FMTTYPE=image/png:https
 ://dq5pwpg1q8ru0.cloudfront.net/2025/01/10/16/22/57/2f2a098e-28f9-43b0-84d
 5-10578b9002c8/Coffee-Break-%2528Presentation%2529.png
END:VEVENT
END:VCALENDAR
