BEGIN:VCALENDAR
VERSION:2.0
PRODID:icalendar-ruby
CALSCALE:GREGORIAN
METHOD:PUBLISH
BEGIN:VEVENT
DTSTAMP:20260420T065917Z
UID:118-806447@ccrichardson.org
DTSTART:20260913T160000Z
DTEND:20260913T173000Z
CLASS:PUBLIC
CREATED:20260419T222432
DESCRIPTION:
LAST-MODIFIED:20260419T222432
LOCATION:Meets 1st\, 3rd\, 4th Sundays/Lecture Hall\; 2nd\, 5th Sundays/San
 ctuary
SUMMARY:Young Christ Nation
URL;VALUE=URI:https://www.ccrichardson.org/events/young-christ-nation/2026-
 09-13
ATTACH;FILENAME=YCN-update-presentation.png;FMTTYPE=image/png:https://dq5pw
 pg1q8ru0.cloudfront.net/2026/02/21/19/59/58/c0fe902b-596c-44e4-a156-3d64de
 c1ef75/YCN-update-presentation.png
END:VEVENT
END:VCALENDAR
